BEGIN:VCALENDAR
VERSION:2.0
PRODID:-//ANGELINA DORLIN-BARLOW - ECPv6.15.20//NONSGML v1.0//EN
CALSCALE:GREGORIAN
METHOD:PUBLISH
X-WR-CALNAME:ANGELINA DORLIN-BARLOW
X-ORIGINAL-URL:https://angelinadorlinbarlow.co.uk
X-WR-CALDESC:Events for ANGELINA DORLIN-BARLOW
REFRESH-INTERVAL;VALUE=DURATION:PT1H
X-Robots-Tag:noindex
X-PUBLISHED-TTL:PT1H
BEGIN:VTIMEZONE
TZID:Europe/London
BEGIN:DAYLIGHT
TZOFFSETFROM:+0000
TZOFFSETTO:+0100
TZNAME:BST
DTSTART:20240331T010000
END:DAYLIGHT
BEGIN:STANDARD
TZOFFSETFROM:+0100
TZOFFSETTO:+0000
TZNAME:GMT
DTSTART:20241027T010000
END:STANDARD
BEGIN:DAYLIGHT
TZOFFSETFROM:+0000
TZOFFSETTO:+0100
TZNAME:BST
DTSTART:20250330T010000
END:DAYLIGHT
BEGIN:STANDARD
TZOFFSETFROM:+0100
TZOFFSETTO:+0000
TZNAME:GMT
DTSTART:20251026T010000
END:STANDARD
BEGIN:DAYLIGHT
TZOFFSETFROM:+0000
TZOFFSETTO:+0100
TZNAME:BST
DTSTART:20260329T010000
END:DAYLIGHT
BEGIN:STANDARD
TZOFFSETFROM:+0100
TZOFFSETTO:+0000
TZNAME:GMT
DTSTART:20261025T010000
END:STANDARD
END:VTIMEZONE
BEGIN:VEVENT
DTSTART;TZID=Europe/London:20250917T140000
DTEND;TZID=Europe/London:20250917T170000
DTSTAMP:20260422T184244
CREATED:20250822T012715Z
LAST-MODIFIED:20250822T012715Z
UID:1743-1758117600-1758128400@angelinadorlinbarlow.co.uk
SUMMARY:Vocal Masterclass with Ann Murray
DESCRIPTION:
URL:https://angelinadorlinbarlow.co.uk/event/vocal-masterclass-with-ann-murray
LOCATION:Britten Theatre\, Royal College of Music
END:VEVENT
BEGIN:VEVENT
DTSTART;TZID=Europe/London:20250905T140000
DTEND;TZID=Europe/London:20250905T150000
DTSTAMP:20260422T184244
CREATED:20250821T223856Z
LAST-MODIFIED:20250821T223856Z
UID:1285-1757080800-1757084400@angelinadorlinbarlow.co.uk
SUMMARY:London Transport Museum: Music in the Museum
DESCRIPTION:Angelina performs a concert of her own songs and covers at the iconic London Transport Museum.
URL:https://angelinadorlinbarlow.co.uk/event/london-transport-museum-music-in-the-museum
LOCATION:London Transport Museum\, London Transport Museum
END:VEVENT
BEGIN:VEVENT
DTSTART;TZID=Europe/London:20250903T170000
DTEND;TZID=Europe/London:20250903T180000
DTSTAMP:20260422T184244
CREATED:20250822T011229Z
LAST-MODIFIED:20250822T011229Z
UID:1727-1756918800-1756922400@angelinadorlinbarlow.co.uk
SUMMARY:RCM Final Masters Recital
DESCRIPTION:Angelina performs her final Masters recital with pianist Ella O’Neill.
URL:https://angelinadorlinbarlow.co.uk/event/rcm-final-masters-recital
LOCATION:The Performance Hall\, Royal College of Music\, Royal College of Music
END:VEVENT
BEGIN:VEVENT
DTSTART;TZID=Europe/London:20250827T183000
DTEND;TZID=Europe/London:20250827T210000
DTSTAMP:20260422T184244
CREATED:20250821T223315Z
LAST-MODIFIED:20250821T223405Z
UID:1280-1756319400-1756328400@angelinadorlinbarlow.co.uk
SUMMARY:Glyndebourne at the BBC Proms: The Marriage of Figaro
DESCRIPTION:Angelina performs in the Glyndebourne Chorus of Mozart’s The Marriage of Figaro.
URL:https://angelinadorlinbarlow.co.uk/event/glyndebourne-at-the-bbc-proms-the-marriage-of-figaro
LOCATION:Royal Albert Hall\, Royal Albert Hall
END:VEVENT
BEGIN:VEVENT
DTSTART;TZID=Europe/London:20250824T170000
DTEND;TZID=Europe/London:20250824T203000
DTSTAMP:20260422T184244
CREATED:20250821T223106Z
LAST-MODIFIED:20250821T223106Z
UID:1277-1756054800-1756067400@angelinadorlinbarlow.co.uk
SUMMARY:Falstaff
DESCRIPTION:Angelina performs in the Glyndebourne Chorus for Verdi’s Falstaff.
URL:https://angelinadorlinbarlow.co.uk/event/falstaff
END:VEVENT
BEGIN:VEVENT
DTSTART;TZID=Europe/London:20250822T160000
DTEND;TZID=Europe/London:20250822T203000
DTSTAMP:20260422T184244
CREATED:20250822T131654Z
LAST-MODIFIED:20250822T131654Z
UID:1274-1755878400-1755894600@angelinadorlinbarlow.co.uk
SUMMARY:Falstaff
DESCRIPTION:Angelina performs in the Glyndebourne Chorus for Verdi’s Falstaff.
URL:https://angelinadorlinbarlow.co.uk/event/falstaff-2
LOCATION:Glyndebourne
END:VEVENT
END:VCALENDAR