BEGIN:VCALENDAR
VERSION:2.0
PRODID:-//ANGELINA DORLIN-BARLOW - ECPv6.15.20//NONSGML v1.0//EN
CALSCALE:GREGORIAN
METHOD:PUBLISH
X-ORIGINAL-URL:https://angelinadorlinbarlow.co.uk
X-WR-CALDESC:Events for ANGELINA DORLIN-BARLOW
REFRESH-INTERVAL;VALUE=DURATION:PT1H
X-Robots-Tag:noindex
X-PUBLISHED-TTL:PT1H
BEGIN:VTIMEZONE
TZID:Europe/London
BEGIN:DAYLIGHT
TZOFFSETFROM:+0000
TZOFFSETTO:+0100
TZNAME:BST
DTSTART:20250330T010000
END:DAYLIGHT
BEGIN:STANDARD
TZOFFSETFROM:+0100
TZOFFSETTO:+0000
TZNAME:GMT
DTSTART:20251026T010000
END:STANDARD
BEGIN:DAYLIGHT
TZOFFSETFROM:+0000
TZOFFSETTO:+0100
TZNAME:BST
DTSTART:20260329T010000
END:DAYLIGHT
BEGIN:STANDARD
TZOFFSETFROM:+0100
TZOFFSETTO:+0000
TZNAME:GMT
DTSTART:20261025T010000
END:STANDARD
BEGIN:DAYLIGHT
TZOFFSETFROM:+0000
TZOFFSETTO:+0100
TZNAME:BST
DTSTART:20270328T010000
END:DAYLIGHT
BEGIN:STANDARD
TZOFFSETFROM:+0100
TZOFFSETTO:+0000
TZNAME:GMT
DTSTART:20271031T010000
END:STANDARD
END:VTIMEZONE
BEGIN:VEVENT
DTSTART;TZID=Europe/London:20260314T193000
DTEND;TZID=Europe/London:20260314T214500
DTSTAMP:20260421T050215
CREATED:20260113T213646Z
LAST-MODIFIED:20260113T213646Z
UID:2736-1773516600-1773524700@angelinadorlinbarlow.co.uk
SUMMARY:Mass in a Time of War
DESCRIPTION:Angelina performs as a soloist with Guildford Choral and Southern Pro Musica in Haydn’s Mass in Time of War.
URL:https://angelinadorlinbarlow.co.uk/event/mass-in-a-time-of-war
LOCATION:Holy Trinity Church\, Guildford\, Holy Trinity Church\, Guildford\, GU1 3RR
END:VEVENT
BEGIN:VEVENT
DTSTART;TZID=Europe/London:20260318T190000
DTEND;TZID=Europe/London:20260318T220000
DTSTAMP:20260421T050215
CREATED:20260217T215021Z
LAST-MODIFIED:20260217T215021Z
UID:2898-1773860400-1773871200@angelinadorlinbarlow.co.uk
SUMMARY:La Finta Giardiniera
DESCRIPTION:Angelina performs as Ramiro in Stephen Barlow’s production of Mozart’s La Finta Giardiniera. 
URL:https://angelinadorlinbarlow.co.uk/event/la-finta-giardiniera
LOCATION:Britten Theatre\, Royal College of Music
END:VEVENT
BEGIN:VEVENT
DTSTART;TZID=Europe/London:20260321T190000
DTEND;TZID=Europe/London:20260321T220000
DTSTAMP:20260421T050215
CREATED:20260217T215226Z
LAST-MODIFIED:20260217T215226Z
UID:2900-1774119600-1774130400@angelinadorlinbarlow.co.uk
SUMMARY:La Finta Giardiniera
DESCRIPTION:Angelina performs as Ramiro in Stephen Barlow’s production of Mozart’s La Finta Giardiniera. 
URL:https://angelinadorlinbarlow.co.uk/event/la-finta-giardiniera-2
LOCATION:Britten Theatre\, Royal College of Music
END:VEVENT
BEGIN:VEVENT
DTSTART;TZID=Europe/London:20260518T130000
DTEND;TZID=Europe/London:20260518T140000
DTSTAMP:20260421T050215
CREATED:20260410T215752Z
LAST-MODIFIED:20260410T215752Z
UID:2906-1779109200-1779112800@angelinadorlinbarlow.co.uk
SUMMARY:Jerwood Glyndebourne Young Singers with Pianist Matthew Fletcher
DESCRIPTION:Angelina features at the Brighton Festival as a Glyndebourne Jerwood Young Artist 2026.
URL:https://angelinadorlinbarlow.co.uk/event/jerwood-glyndebourne-young-singers-with-pianist-matthew-fletcher
LOCATION:Brighton Dome Concert Hall
END:VEVENT
END:VCALENDAR