BEGIN:VCALENDAR
VERSION:2.0
PRODID:-//ANGELINA DORLIN-BARLOW - ECPv6.15.20//NONSGML v1.0//EN
CALSCALE:GREGORIAN
METHOD:PUBLISH
X-WR-CALNAME:ANGELINA DORLIN-BARLOW
X-ORIGINAL-URL:https://angelinadorlinbarlow.co.uk
X-WR-CALDESC:Events for ANGELINA DORLIN-BARLOW
REFRESH-INTERVAL;VALUE=DURATION:PT1H
X-Robots-Tag:noindex
X-PUBLISHED-TTL:PT1H
BEGIN:VTIMEZONE
TZID:Europe/London
BEGIN:DAYLIGHT
TZOFFSETFROM:+0000
TZOFFSETTO:+0100
TZNAME:BST
DTSTART:20240331T010000
END:DAYLIGHT
BEGIN:STANDARD
TZOFFSETFROM:+0100
TZOFFSETTO:+0000
TZNAME:GMT
DTSTART:20241027T010000
END:STANDARD
BEGIN:DAYLIGHT
TZOFFSETFROM:+0000
TZOFFSETTO:+0100
TZNAME:BST
DTSTART:20250330T010000
END:DAYLIGHT
BEGIN:STANDARD
TZOFFSETFROM:+0100
TZOFFSETTO:+0000
TZNAME:GMT
DTSTART:20251026T010000
END:STANDARD
BEGIN:DAYLIGHT
TZOFFSETFROM:+0000
TZOFFSETTO:+0100
TZNAME:BST
DTSTART:20260329T010000
END:DAYLIGHT
BEGIN:STANDARD
TZOFFSETFROM:+0100
TZOFFSETTO:+0000
TZNAME:GMT
DTSTART:20261025T010000
END:STANDARD
BEGIN:DAYLIGHT
TZOFFSETFROM:+0000
TZOFFSETTO:+0100
TZNAME:BST
DTSTART:20270328T010000
END:DAYLIGHT
BEGIN:STANDARD
TZOFFSETFROM:+0100
TZOFFSETTO:+0000
TZNAME:GMT
DTSTART:20271031T010000
END:STANDARD
END:VTIMEZONE
BEGIN:VEVENT
DTSTART;TZID=Europe/London:20251023T180000
DTEND;TZID=Europe/London:20251023T193000
DTSTAMP:20260422T182422
CREATED:20250930T213117Z
LAST-MODIFIED:20250930T213117Z
UID:2544-1761242400-1761247800@angelinadorlinbarlow.co.uk
SUMMARY:Song Plus: Family Ties
DESCRIPTION:Delving into the sound-world of father and daughter composers Samuel and Avril Coleridge-Taylor\, RCM singers and pianists explore their contributions to song\, showcasing the character and rich melodies of their music.
URL:https://angelinadorlinbarlow.co.uk/event/song-plus-family-ties
LOCATION:Inner Parry Room\, Royal College of Music
END:VEVENT
BEGIN:VEVENT
DTSTART;TZID=Europe/London:20251024T140000
DTEND;TZID=Europe/London:20251024T150000
DTSTAMP:20260422T182422
CREATED:20250822T011435Z
LAST-MODIFIED:20250822T011435Z
UID:1730-1761314400-1761318000@angelinadorlinbarlow.co.uk
SUMMARY:London Transport Museum: Music in the Museum
DESCRIPTION:Angelina performs a recital in the iconic London Transport Museum.
URL:https://angelinadorlinbarlow.co.uk/event/london-transport-museum-music-in-the-museum-2
LOCATION:London Transport Museum\, London Transport Museum
END:VEVENT
BEGIN:VEVENT
DTSTART;TZID=Europe/London:20251108T193000
DTEND;TZID=Europe/London:20251108T213000
DTSTAMP:20260422T182422
CREATED:20251027T235115Z
LAST-MODIFIED:20251027T235115Z
UID:2643-1762630200-1762637400@angelinadorlinbarlow.co.uk
SUMMARY:Drake Calleja Trust Scholars' Concert
DESCRIPTION:Angelina performs alongside the Drake Calleja Trust Scholars 2025.
URL:https://angelinadorlinbarlow.co.uk/event/drake-calleja-trust-scholars-concert
LOCATION:Corinthia Hotel\, Corinthia Hotel\, London\, United Kingdom
END:VEVENT
BEGIN:VEVENT
DTSTART;TZID=Europe/London:20251116T190000
DTEND;TZID=Europe/London:20251116T210000
DTSTAMP:20260422T182422
CREATED:20251027T234818Z
LAST-MODIFIED:20251027T234818Z
UID:2640-1763319600-1763326800@angelinadorlinbarlow.co.uk
SUMMARY:Haydn's Nelson Mass with Dorking Choral Society
DESCRIPTION:Angelina performs as the alto soloist in Haydn’s Nelson Mass with Dorking Choral Society.
URL:https://angelinadorlinbarlow.co.uk/event/haydns-nelson-mass-with-dorking-choral-society
LOCATION:St Martins Church\, Dorking\, St Martins Church\, Dorking\, RH4 1UT\, United Kingdom
END:VEVENT
BEGIN:VEVENT
DTSTART;TZID=Europe/London:20251124T190000
DTEND;TZID=Europe/London:20251124T213000
DTSTAMP:20260422T182422
CREATED:20250822T011752Z
LAST-MODIFIED:20250822T013306Z
UID:1732-1764010800-1764019800@angelinadorlinbarlow.co.uk
SUMMARY:The Cunning Little Vixen
DESCRIPTION:Angelina performs with the RCM Opera Studio in Janáček’s The Cunning Little Vixen.
URL:https://angelinadorlinbarlow.co.uk/event/the-cunning-little-vixen
LOCATION:Britten Theatre\, Royal College of Music
END:VEVENT
BEGIN:VEVENT
DTSTART;TZID=Europe/London:20251126T190000
DTEND;TZID=Europe/London:20251126T213000
DTSTAMP:20260422T182422
CREATED:20250822T011908Z
LAST-MODIFIED:20250822T011908Z
UID:1735-1764183600-1764192600@angelinadorlinbarlow.co.uk
SUMMARY:The Cunning Little Vixen
DESCRIPTION:Angelina performs with the RCM Opera Studio in Janáček’s The Cunning Little Vixen.
URL:https://angelinadorlinbarlow.co.uk/event/the-cunning-little-vixen-2
LOCATION:Britten Theatre\, Royal College of Music
END:VEVENT
BEGIN:VEVENT
DTSTART;TZID=Europe/London:20251128T190000
DTEND;TZID=Europe/London:20251128T213000
DTSTAMP:20260422T182422
CREATED:20250822T012126Z
LAST-MODIFIED:20250822T012126Z
UID:1737-1764356400-1764365400@angelinadorlinbarlow.co.uk
SUMMARY:The Cunning Little Vixen
DESCRIPTION:Angelina performs with the RCM Opera Studio in Janáček’s The Cunning Little Vixen.
URL:https://angelinadorlinbarlow.co.uk/event/the-cunning-little-vixen-3
LOCATION:Britten Theatre\, Royal College of Music
END:VEVENT
BEGIN:VEVENT
DTSTART;TZID=Europe/London:20251129T190000
DTEND;TZID=Europe/London:20251129T213000
DTSTAMP:20260422T182422
CREATED:20250822T012234Z
LAST-MODIFIED:20250822T012234Z
UID:1740-1764442800-1764451800@angelinadorlinbarlow.co.uk
SUMMARY:The Cunning Little Vixen
DESCRIPTION:Angelina performs with the RCM Opera Studio in Janáček’s The Cunning Little Vixen.
URL:https://angelinadorlinbarlow.co.uk/event/the-cunning-little-vixen-4
LOCATION:Britten Theatre\, Royal College of Music
END:VEVENT
BEGIN:VEVENT
DTSTART;TZID=Europe/London:20251212T140000
DTEND;TZID=Europe/London:20251212T150000
DTSTAMP:20260422T182422
CREATED:20250930T213540Z
LAST-MODIFIED:20250930T213540Z
UID:2549-1765548000-1765551600@angelinadorlinbarlow.co.uk
SUMMARY:London Transport Museum: Music in the Museum
DESCRIPTION:Angelina performs a Christmas concert in the iconic London Transport Museum.
URL:https://angelinadorlinbarlow.co.uk/event/london-transport-museum-music-in-the-museum-3
LOCATION:London Transport Museum\, London Transport Museum
END:VEVENT
BEGIN:VEVENT
DTSTART;TZID=Europe/London:20251213T193000
DTEND;TZID=Europe/London:20251213T213000
DTSTAMP:20260422T182422
CREATED:20250929T230042Z
LAST-MODIFIED:20250929T230042Z
UID:2540-1765654200-1765661400@angelinadorlinbarlow.co.uk
SUMMARY:Christmas Concert: Bach and his contemporaries\, West Road Concert Hall
DESCRIPTION:Angelina features as a soloist with Collegium Laureatum conducted by Ian Cobb in Cambridge’s West Road Concert Hall in a programme of Bach and his contemporaries.
URL:https://angelinadorlinbarlow.co.uk/event/christmas-concert-bach-and-his-contemporaries-west-road-concert-hall
LOCATION:West Road Concert Hall\, 11 West Road\, Cambridge\, CB3 9DP\, United Kingdom
END:VEVENT
BEGIN:VEVENT
DTSTART;TZID=Europe/London:20260314T193000
DTEND;TZID=Europe/London:20260314T214500
DTSTAMP:20260422T182422
CREATED:20260113T213646Z
LAST-MODIFIED:20260113T213646Z
UID:2736-1773516600-1773524700@angelinadorlinbarlow.co.uk
SUMMARY:Mass in a Time of War
DESCRIPTION:Angelina performs as a soloist with Guildford Choral and Southern Pro Musica in Haydn’s Mass in Time of War.
URL:https://angelinadorlinbarlow.co.uk/event/mass-in-a-time-of-war
LOCATION:Holy Trinity Church\, Guildford\, Holy Trinity Church\, Guildford\, GU1 3RR
END:VEVENT
BEGIN:VEVENT
DTSTART;TZID=Europe/London:20260318T190000
DTEND;TZID=Europe/London:20260318T220000
DTSTAMP:20260422T182422
CREATED:20260217T215021Z
LAST-MODIFIED:20260217T215021Z
UID:2898-1773860400-1773871200@angelinadorlinbarlow.co.uk
SUMMARY:La Finta Giardiniera
DESCRIPTION:Angelina performs as Ramiro in Stephen Barlow’s production of Mozart’s La Finta Giardiniera. 
URL:https://angelinadorlinbarlow.co.uk/event/la-finta-giardiniera
LOCATION:Britten Theatre\, Royal College of Music
END:VEVENT
BEGIN:VEVENT
DTSTART;TZID=Europe/London:20260321T190000
DTEND;TZID=Europe/London:20260321T220000
DTSTAMP:20260422T182422
CREATED:20260217T215226Z
LAST-MODIFIED:20260217T215226Z
UID:2900-1774119600-1774130400@angelinadorlinbarlow.co.uk
SUMMARY:La Finta Giardiniera
DESCRIPTION:Angelina performs as Ramiro in Stephen Barlow’s production of Mozart’s La Finta Giardiniera. 
URL:https://angelinadorlinbarlow.co.uk/event/la-finta-giardiniera-2
LOCATION:Britten Theatre\, Royal College of Music
END:VEVENT
BEGIN:VEVENT
DTSTART;TZID=Europe/London:20260518T130000
DTEND;TZID=Europe/London:20260518T140000
DTSTAMP:20260422T182422
CREATED:20260410T215752Z
LAST-MODIFIED:20260410T215752Z
UID:2906-1779109200-1779112800@angelinadorlinbarlow.co.uk
SUMMARY:Jerwood Glyndebourne Young Singers with Pianist Matthew Fletcher
DESCRIPTION:Angelina features at the Brighton Festival as a Glyndebourne Jerwood Young Artist 2026.
URL:https://angelinadorlinbarlow.co.uk/event/jerwood-glyndebourne-young-singers-with-pianist-matthew-fletcher
LOCATION:Brighton Dome Concert Hall
END:VEVENT
END:VCALENDAR