BEGIN:VCALENDAR
VERSION:2.0
PRODID:-//ANGELINA DORLIN-BARLOW - ECPv6.15.20//NONSGML v1.0//EN
CALSCALE:GREGORIAN
METHOD:PUBLISH
X-WR-CALNAME:ANGELINA DORLIN-BARLOW
X-ORIGINAL-URL:https://angelinadorlinbarlow.co.uk
X-WR-CALDESC:Events for ANGELINA DORLIN-BARLOW
REFRESH-INTERVAL;VALUE=DURATION:PT1H
X-Robots-Tag:noindex
X-PUBLISHED-TTL:PT1H
BEGIN:VTIMEZONE
TZID:Europe/London
BEGIN:DAYLIGHT
TZOFFSETFROM:+0000
TZOFFSETTO:+0100
TZNAME:BST
DTSTART:20240331T010000
END:DAYLIGHT
BEGIN:STANDARD
TZOFFSETFROM:+0100
TZOFFSETTO:+0000
TZNAME:GMT
DTSTART:20241027T010000
END:STANDARD
BEGIN:DAYLIGHT
TZOFFSETFROM:+0000
TZOFFSETTO:+0100
TZNAME:BST
DTSTART:20250330T010000
END:DAYLIGHT
BEGIN:STANDARD
TZOFFSETFROM:+0100
TZOFFSETTO:+0000
TZNAME:GMT
DTSTART:20251026T010000
END:STANDARD
BEGIN:DAYLIGHT
TZOFFSETFROM:+0000
TZOFFSETTO:+0100
TZNAME:BST
DTSTART:20260329T010000
END:DAYLIGHT
BEGIN:STANDARD
TZOFFSETFROM:+0100
TZOFFSETTO:+0000
TZNAME:GMT
DTSTART:20261025T010000
END:STANDARD
END:VTIMEZONE
BEGIN:VEVENT
DTSTART;TZID=Europe/London:20251128T190000
DTEND;TZID=Europe/London:20251128T213000
DTSTAMP:20260422T170109
CREATED:20250822T012126Z
LAST-MODIFIED:20250822T012126Z
UID:1737-1764356400-1764365400@angelinadorlinbarlow.co.uk
SUMMARY:The Cunning Little Vixen
DESCRIPTION:Angelina performs with the RCM Opera Studio in Janáček’s The Cunning Little Vixen.
URL:https://angelinadorlinbarlow.co.uk/event/the-cunning-little-vixen-3
LOCATION:Britten Theatre\, Royal College of Music
END:VEVENT
END:VCALENDAR